BEGIN:VCALENDAR
VERSION:2.0
PRODID:-//ATD Quart Monde International - ECPv6.15.20//NONSGML v1.0//EN
CALSCALE:GREGORIAN
METHOD:PUBLISH
X-WR-CALNAME:ATD Quart Monde International
X-ORIGINAL-URL:https://www.atd-quartmonde.org
X-WR-CALDESC:Évènements pour ATD Quart Monde International
REFRESH-INTERVAL;VALUE=DURATION:PT1H
X-Robots-Tag:noindex
X-PUBLISHED-TTL:PT1H
BEGIN:VTIMEZONE
TZID:Europe/Paris
BEGIN:DAYLIGHT
TZOFFSETFROM:+0100
TZOFFSETTO:+0200
TZNAME:CEST
DTSTART:20250330T010000
END:DAYLIGHT
BEGIN:STANDARD
TZOFFSETFROM:+0200
TZOFFSETTO:+0100
TZNAME:CET
DTSTART:20251026T010000
END:STANDARD
BEGIN:DAYLIGHT
TZOFFSETFROM:+0100
TZOFFSETTO:+0200
TZNAME:CEST
DTSTART:20260329T010000
END:DAYLIGHT
BEGIN:STANDARD
TZOFFSETFROM:+0200
TZOFFSETTO:+0100
TZNAME:CET
DTSTART:20261025T010000
END:STANDARD
BEGIN:DAYLIGHT
TZOFFSETFROM:+0100
TZOFFSETTO:+0200
TZNAME:CEST
DTSTART:20270328T010000
END:DAYLIGHT
BEGIN:STANDARD
TZOFFSETFROM:+0200
TZOFFSETTO:+0100
TZNAME:CET
DTSTART:20271031T010000
END:STANDARD
END:VTIMEZONE
BEGIN:VEVENT
DTSTART;TZID=Europe/Paris:20260423T170000
DTEND;TZID=Europe/Paris:20260423T183000
DTSTAMP:20260421T072206
CREATED:20260415T072446Z
LAST-MODIFIED:20260415T072446Z
UID:62291-1776963600-1776969000@www.atd-quartmonde.org
SUMMARY:Citoyens\, partenaires pour la démocratie dans les services sociaux #RESPONSIVE
DESCRIPTION:Leçons du projet EU Horizon #RESPONSIVE\n\nCompte-rendu du projet Responsive\, auquel ATD Quart Monde a participé.\n\n📆 23 avril 2026 de 17h à 18h30\, heure de France \n\nAnimation en anglais avec interprétation: Français – Allemand – Portugais – Polonais\nCe webinaire organisé par ATD Quart Monde Belgique avec les partenaires du projet EU Horizon RESPONSIVE donnera la parole à des personnes ayant une expérience concrète de l’utilisation des services\, qui partageront leurs réflexions sur leur expérience et leurs contributions au projet #Responsive. Il présentera également les principaux enseignements tirés de la recherche en direction des citoyens qui utilisent ces services ainsi qu’à leurs organisations. Des débats avec les participants seront organisés après chaque présentation.\n\n \n\n👉🏾Inscris-toi en remplissant le formulaire avant le 23 avril à 13 h (CET). Tu recevras le jour–même le lien Zoom pour te connecter.
URL:https://www.atd-quartmonde.org/events/webinaire-responsive-23-avril/
CATEGORIES:Webinaire
ATTACH;FMTTYPE=image/jpeg:https://www.atd-quartmonde.org/wp-content/uploads/2026/04/2026-04-PEPS-EUR-WebinaireResponsive-fr.jpg
END:VEVENT
END:VCALENDAR